BEGIN:VCALENDAR
VERSION:2.0
PRODID:-//eventon.com NONSGML v1.0//EN
CALSCALE:GREGORIAN
METHOD:PUBLISH
BEGIN:VEVENT
UID:69ece5e01aeb7
DTSTAMP:20260425T160344Z
DTSTART:20230107T020000Z
DTEND:20230107T030000Z
LOCATION:St Mary&#039;s Cathedral 2 St Mary’s Road Sydney NSW 2000\,  Australia.
SUMMARY:Men’s Rosary Crusade
DESCRIPTION:Every ‘First Saturday of the Month’ in honour of Our Lady a
 nd Her requests1pm at St Mary’s Cathedral Forecourt Confession available 
 from 11am and Mass 12pm in St Mary’s Cathedral\nhttps://www.sydneycatholi
 c.org/men/mens-rosary-crusade/
URL:https://www.sydneycatholic.org/men/mens-rosary-crusade/
END:VEVENT
END:VCALENDAR